BEGIN:VCALENDAR
VERSION:2.0
PRODID:-//Tukios.com/
BEGIN:VEVENT
UID:28a60e5c-7100-46a7-b86f-fa02fc65003f@www.cedarvalefuneralhome.com
DTSTAMP:20260424T072245Z
DTSTART:20260424T150000Z
DTEND:20260424T160000Z
SUMMARY:Memorial Service
DESCRIPTION:
URL:https://www.cedarvalefuneralhome.com/obituaries/richard-birzer
LOCATION: 295 Balearic Road  Hot Springs Village AR 71909
GEO:34.653975;-92.9833431
END:VEVENT
END:VCALENDAR