BEGIN:VCALENDAR
VERSION:2.0
PRODID:-//Tukios.com/
BEGIN:VEVENT
UID:fdb8cb52-a8e3-4756-a7dc-8373f8d9b16a@www.cedarvalefuneralhome.com
DTSTAMP:20260424T072459Z
DTSTART:20260424T160000Z
DTEND:20260424T170000Z
SUMMARY:Interment
DESCRIPTION:
URL:https://www.cedarvalefuneralhome.com/obituaries/richard-birzer
LOCATION: 295 Balearic Road  Hot Springs Village AR 71909
GEO:34.653975;-92.9833431
END:VEVENT
END:VCALENDAR